Workbook
Name t_データ部: #REF!

Sheet 集計表
A1: 令和６年度 農地維持支払活動総括表
A3: 方部 | B3: 市町村数 | C3: 活動組織数
D4: 既交付 | E4: 今回交付
D5: 第１回 | E5: 第2回 | F5: 残 額
D6: 国費40% 市町村費25% | E6: 市町村費25% | F6: 35%
A7: 県北 | B7: ='（○）県北'!C160 -> 8 | C7: ='（○）県北'!E160 -> 146 | D7: ='（○）県北'!#REF! -> #REF! | E7: ='（○）県北'!#REF! -> #REF! | F7: ='（○）県北'!#REF! -> #REF!
A8: 県中 | B8: ='（○）県中'!C390 -> 12 | C8: ='（○）県中'!E390 -> 372 | D8: ='（○）県中'!#REF! -> #REF! | E8: ='（○）県中'!#REF! -> #REF! | F8: ='（○）県中'!#REF! -> #REF!
A9: 県南 | B9: ='(○）県南'!C226 -> 9 | C9: ='(○）県南'!E226 -> 211 | D9: ='(○）県南'!#REF! -> #REF! | E9: ='(○）県南'!#REF! -> #REF! | F9: ='(○）県南'!#REF! -> #REF!
A10: 会津 | B10: ='（○）会津'!C392 -> 13 | C10: ='（○）会津'!E392 -> 373 | D10: ='（○）会津'!#REF! -> #REF! | E10: ='（○）会津'!#REF! -> #REF! | F10: ='（○）会津'!#REF! -> #REF!
A11: 南会津 | B11: ='（○）南会津'!C58 -> 3 | C11: ='（○）南会津'!E58 -> 49 | D11: ='（○）南会津'!#REF! -> #REF! | E11: ='（○）南会津'!#REF! -> #REF! | F11: ='（○）南会津'!#REF! -> #REF!
A12: 相双 | B12: ='(○)相双'!C127 -> 10 | C12: ='(○)相双'!E127 -> 111 | D12: ='(○)相双'!#REF! -> #REF! | E12: ='(○)相双'!#REF! -> #REF! | F12: ='(○)相双'!#REF! -> #REF!
A13: いわき | B13: ='（○）いわき'!C56 -> 1 | C13: ='（○）いわき'!E56 -> 49 | D13: ='（○）いわき'!#REF! -> #REF! | E13: ='（○）いわき'!#REF! -> #REF! | F13: ='（○）いわき'!#REF! -> #REF!
A14: 福島県合計 | B14: =SUM(B7:B13) -> 56 | C14: =SUM(C7:C13) -> 1311 | D14: =SUM(D7:D13) -> #REF! | E14: =SUM(E7:E13) -> #REF! | F14: =SUM(F7:F13) -> #REF!

Sheet （○）県北
C1: 令和６年度 農地維持支払活動活動組織一覧表
B2: 管内 | C2: 市町村名 | D2: 認定年度 （採択年度） | E2: 活動組織名
B6: 県北 | C6: 福島市 | D6: 平成１９年度 | E6: 小川地域環境 保全協議会
B7: 県北 | C7: 福島市 | D7: 平成１９年度 | E7: 平野地区 水環境を守る会
B8: 県北 | C8: 福島市 | D8: 平成１９年度 | E8: 桜本中西部 環境保全会
B9: 県北 | C9: 福島市 | D9: 平成１９年度 | E9: 山田地区 環境を守る会
B10: 県北 | C10: 福島市 | D10: 平成１９年度 | E10: 水原第１上組 活動組織
B11: 県北 | C11: 福島市 | D11: 平成１９年度 | E11: 山際環境保全 活動組織
B12: 県北 | C12: 福島市 | D12: 平成１９年度 | E12: NPO法人関北農・水・ 環境保全会
B13: 県北 | C13: 福島市 | D13: 平成１９年度 | E13: 小南農地・水 保全会
B14: 県北 | C14: 福島市 | D14: 平成１９年度 | E14: 松川地区環境 保全事業組合
B15: 県北 | C15: 福島市 | D15: 平成１９年度 | E15: 金沢 環境保全組合
B16: 県北 | C16: 福島市 | D16: 平成１９年度 | E16: 下川崎地区農地、水、環境保全隊
... B51: 県北 | C51: 福島市 | D51: 平成３１年度 | E51: 第二庭坂地区保全会
A52: ○ | C52: 福島市計 | E52: =COUNTA(E6:E51) -> 46
B53: 県北 | C53: 二本松市 | D53: 平成１９年度 | E53: 高成地域 保全協議会
B54: 県北 | C54: 二本松市 | D54: 平成１９年度 | E54: 原瀬東部環境 保全委員会
B55: 県北 | C55: 二本松市 | D55: 平成１９年度 | E55: 原２のふる里を 守る会
B56: 県北 | C56: 二本松市 | D56: 平成１９年度 | E56: 原瀬３ 環境保全会
B57: 県北 | C57: 二本松市 | D57: 平成１９年度 | E57: 杉田３－１区 保全協議会
B58: 県北 | C58: 二本松市 | D58: 平成１９年度 | E58: 舘野地区 環境保全会
B59: 県北 | C59: 二本松市 | D59: 平成１９年度 | E59: 大平５区 環境クラブ
B60: 県北 | C60: 二本松市 | D60: 平成１９年度 | E60: 大平第６区環境ネットワーク
B61: 県北 | C61: 二本松市 | D61: 平成１９年度 | E61: 大平７区 環境保全会
B62: 県北 | C62: 二本松市 | D62: 平成１９年度 | E62: 大平東部 環境保全会
B63: 県北 | C63: 二本松市 | D63: 平成１９年度 | E63: 油井町地域 保全協議会
B64: 県北 | C64: 二本松市 | D64: 平成１９年度 | E64: 吉倉地域 保全協議会
... B107: 県北 | C107: 二本松市 | D107: 令和５年度 | E107: 上ノ内保全会
A108: ○ | C108: 二本松市計 | E108: =COUNTA(E53:E107) -> 55
B109: 県北 | C109: 伊達市 | D109: 平成１９年度 | E109: 水と緑を守る 富野会
B110: 県北 | C110: 伊達市 | D110: 平成１９年度 | E110: 柱田環境保全 推進協議会
B111: 県北 | C111: 伊達市 | D111: 平成１９年度 | E111: 五十沢 自然を守る会
B112: 県北 | C112: 伊達市 | D112: 平成１９年度 | E112: 細谷新田水環境 保全協議会
B113: 県北 | C113: 伊達市 | D113: 平成２１年度 | E113: 大塚・高野保全会
B114: 県北 | C114: 伊達市 | D114: 平成１９年度 | E114: 花とみどりの瀬成田
B115: 県北 | C115: 伊達市 | D115: 平成２５年度 | E115: 山戸田環境管理組合
B116: 県北 | C116: 伊達市 | D116: 平成２６年度 | E116: 粟野環境保全会
B117: 県北 | C117: 伊達市 | D117: 平成２６年度 | E117: 上原水と緑の会
B118: 県北 | C118: 伊達市 | D118: 平成２７年度 | E118: 大立目 グリーンクラブ
B119: 県北 | C119: 伊達市 | D119: 平成２７年度 | E119: 二井田地区 環境を守る会
B120: 県北 | C120: 伊達市 | D120: 平成２７年度 | E120: 白根地区農地資源保全協会
... B128: 県北 | C128: 伊達市 | D128: 令和６年度 | E128: 御代田東水利組合
A129: ○ | C129: 伊達市計 | E129: =COUNTA(E109:E128) -> 20
B130: 県北 | C130: 本宮市 | D130: 平成１９年度 | E130: 殕森の環境を 守る会
B131: 県北 | C131: 本宮市 | D131: 平成１９年度 | E131: 和田３区農地・水 ・環境保全組合
B132: 県北 | C132: 本宮市 | D132: 平成１９年度 | E132: 糠沢２区地域 環境保全会
B133: 県北 | C133: 本宮市 | D133: 平成１９年度 | E133: 糠沢４区 地域振興会
B134: 県北 | C134: 本宮市 | D134: 平成１９年度 | E134: 白岩第５区 環境保全会
B135: 県北 | C135: 本宮市 | D135: 平成１９年度 | E135: 白岩第８区 環境保全会
B136: 県北 | C136: 本宮市 | D136: 平成１９年度 | E136: 和田１１区資源 保全委員会
B137: 県北 | C137: 本宮市 | D137: 平成１９年度 | E137: 糠沢６区地域 資源・環境保全隊
B138: 県北 | C138: 本宮市 | D138: 平成１９年度 | E138: 糠沢８区 資源保全隊
B139: 県北 | C139: 本宮市 | D139: 平成１９年度 | E139: 長屋の里を 考える会
B140: 県北 | C140: 本宮市 | D140: 平成１９年度 | E140: 和田４区地域 環境保全隊
B141: 県北 | C141: 本宮市 | D141: 平成１９年度 | E141: 糠沢１区 環境保全会
... B148: 県北 | C148: 本宮市 | D148: 令和４年度 | E148: 池ノ入の環境を考える会
A149: ○ | C149: 本宮市計 | E149: =COUNTA(E130:E148) -> 19
B150: 県北 | C150: 国見町 | D150: 令和３年度 | E150: 国見町環境保全会
A151: ○ | C151: 国見町計 | E151: =COUNTA(E150:E150) -> 1
B152: 県北 | C152: 川俣町 | D152: 平成２７年度 | E152: 鶴沢西部地域 資源保全会
B153: 県北 | C153: 川俣町 | D153: 令和２年度 | E153: 川俣農村づくり広域協定運営委員会
A154: ○ | C154: 川俣町計 | E154: =COUNTA(E152:E153) -> 2
B155: 県北 | C155: 桑折町 | D155: 平成２７年度 | E155: 谷地南部 地域資源保全会
B156: 県北 | C156: 桑折町 | D156: 平成３０年度 | E156: 桑折町多面的機能支払交付金広域協定
C157: 桑折町計 | E157: =COUNTA(E155:E156) -> 2
B158: 県北 | C158: 大玉村 | D158: 令和３年度 | E158: 大玉村多面的機能広域活動組織
A159: ○ | C159: 大玉村計 | E159: =COUNTA(E158:E158) -> 1
B160: 県北計 | C160: =COUNTA(C159,C157,C154,C151,C149,C129,C108,C52) -> 8 | E160: =E159+E157+E154+E151+E149+E129+E108+E52 -> 146

Sheet （○）県中
C1: ='（○）県北'!C1 -> 令和６年度 農地維持支払活動活動組織一覧表
B2: 管内 | C2: 市町村名 | D2: 認定年度 （採択年度） | E2: 活動組織名
B6: 県中 | C6: 郡山市 | D6: 平成１９年度 | E6: 牛庭 環境を守る会
B7: 県中 | C7: 郡山市 | D7: 平成１９年度 | E7: 柴宮地区 耕地保存会
B8: 県中 | C8: 郡山市 | D8: 平成１９年度 | E8: 美しい山口を つくる会
B9: 県中 | C9: 郡山市 | D9: 平成１９年度 | E9: 膳部農地・水・ 環境保全協議会
B10: 県中 | C10: 郡山市 | D10: 平成１９年度 | E10: 美環大谷会
B11: 県中 | C11: 郡山市 | D11: 平成１９年度 | E11: 川田地区農地・水・ 環境保全向上対策会
B12: 県中 | C12: 郡山市 | D12: 平成１９年度 | E12: 野田区 環境を守る会
B13: 県中 | C13: 郡山市 | D13: 平成１９年度 | E13: 駒屋 環境保全協議会
B14: 県中 | C14: 郡山市 | D14: 平成１９年度 | E14: 多田野ふるさと 再生の会
B15: 県中 | C15: 郡山市 | D15: 平成１９年度 | E15: 河内故郷つくる会
B16: 県中 | C16: 郡山市 | D16: 平成１９年度 | E16: 前田沢の 水と緑を守る会
... B124: 県中 | C124: 郡山市 | D124: 令和６年度 | E124: 福良中区農地･水･環境協議会
C125: 郡山市計 | E125: =COUNTA(E6:E124) -> 119
B126: 県中 | C126: 須賀川市 | D126: 平成１９年度 | E126: 舘ヶ岡地区 資源保全隊
B127: 県中 | C127: 須賀川市 | D127: 平成１９年度 | E127: 仁井田の自然 環境を守る会 「夢・花彩道」
B128: 県中 | C128: 須賀川市 | D128: 平成１９年度 | E128: 袋田農地・水・ 環境を守る会
B129: 県中 | C129: 須賀川市 | D129: 平成１９年度 | E129: 浜尾地区 資源保全隊
B130: 県中 | C130: 須賀川市 | D130: 平成１９年度 | E130: 前田川 環境資源保全隊
B131: 県中 | C131: 須賀川市 | D131: 平成１９年度 | E131: 堀込 資源保全会
B132: 県中 | C132: 須賀川市 | D132: 平成１９年度 | E132: みどりトラスト 長沼
B133: 県中 | C133: 須賀川市 | D133: 平成１９年度 | E133: 上小中 水と緑の会
B134: 県中 | C134: 須賀川市 | D134: 平成１９年度 | E134: 豊町 みどり守り隊
B135: 県中 | C135: 須賀川市 | D135: 平成１９年度 | E135: 里守屋 ふるさとを守る会
B136: 県中 | C136: 須賀川市 | D136: 平成１９年度 | E136: 東部地区農地・ 水・農村環境を 守る会
B137: 県中 | C137: 須賀川市 | D137: 平成１９年度 | E137: 大久保地域農地・ 水・農村環境を 守る会
... B168: 県中 | C168: 須賀川市 | D168: 令和５年度 | E168: 吉美根保存会
C169: 須賀川市計 | E169: =COUNTA(E126:E168) -> 43
B170: 県中 | C170: 田村市 | D170: 平成１９年度 | E170: 牧野保全会
B171: 県中 | C171: 田村市 | D171: 平成１９年度 | E171: （一社）ほりこし創生会
B172: 県中 | C172: 田村市 | D172: 平成２６年度 | E172: くろかわ保全会
B173: 県中 | C173: 田村市 | D173: 平成２６年度 | E173: 久保 農地保全会
B174: 県中 | C174: 田村市 | D174: 平成２６年度 | E174: 新田作地区 農地保全会
B175: 県中 | C175: 田村市 | D175: 平成２７年度 | E175: 上郷チャレンジファーム
B176: 県中 | C176: 田村市 | D176: 平成２７年度 | E176: 早稲川地域 資源保存会
B177: 県中 | C177: 田村市 | D177: 平成２７年度 | E177: 戸屋南 地域保全会
B178: 県中 | C178: 田村市 | D178: 平成２７年度 | E178: 春山１０番組 水利組合
B179: 県中 | C179: 田村市 | D179: 平成２７年度 | E179: 駒場地域 資源保全会
B180: 県中 | C180: 田村市 | D180: 平成２７年度 | E180: 春山東 農地維持組合
B181: 県中 | C181: 田村市 | D181: 平成２７年度 | E181: 石森行政区 環境整備部会
... B207: 県中 | C207: 田村市 | D207: 令和５年度 | E207: 西向水利保全会
C208: 田村市計 | E208: =COUNTA(E170:E207) -> 38
B209: 県中 | C209: 鏡石町 | D209: 平成１９年度 | E209: 鏡田環境保全会
B210: 県中 | C210: 鏡石町 | D210: 平成２０年度 | E210: 笠石環境保全会
B211: 県中 | C211: 鏡石町 | D211: 平成２０年度 | E211: 高久田 環境保全会
B212: 県中 | C212: 鏡石町 | D212: 平成２６年度 | E212: 仁井田 環境保全会
B213: 県中 | C213: 鏡石町 | D213: 平成２７年度 | E213: 久来石上区 環境保全会
B214: 県中 | C214: 鏡石町 | D214: 平成２７年度 | E214: 久来石下区 環境保全会
B215: 県中 | C215: 鏡石町 | D215: 平成２７年度 | E215: 成田環境保全会
B216: 県中 | C216: 鏡石町 | D216: 平成２８年度 | E216: 豊郷環境保全会
C217: 鏡石町計 | E217: =COUNTA(E209:E216) -> 8
B218: 県中 | C218: 天栄村 | D218: 平成１９年度 | E218: 大里東部地区 資源保全会
B219: 県中 | C219: 天栄村 | D219: 平成１９年度 | E219: 今坂地区 資源保全会
B220: 県中 | C220: 天栄村 | D220: 平成１９年度 | E220: 高林地区 資源保全会
B221: 県中 | C221: 天栄村 | D221: 平成１９年度 | E221: 南沢地区 資源保全会
B222: 県中 | C222: 天栄村 | D222: 平成１９年度 | E222: 児渡地区 資源保全会
B223: 県中 | C223: 天栄村 | D223: 平成２１年度 | E223: 上松本地区 資源保全会
B224: 県中 | C224: 天栄村 | D224: 平成２７年度 | E224: 沖内地区 資源保全会
B225: 県中 | C225: 天栄村 | D225: 平成２７年度 | E225: 小川地区 資源保全会
B226: 県中 | C226: 天栄村 | D226: 平成２７年度 | E226: 八十内地区 資源保全会
B227: 県中 | C227: 天栄村 | D227: 平成２７年度 | E227: 湯本地区 資源保全会
B228: 県中 | C228: 天栄村 | D228: 平成２７年度 | E228: 大槻地区 資源保全会
B229: 県中 | C229: 天栄村 | D229: 平成２７年度 | E229: 権太倉地区 資源保全会
... B234: 県中 | C234: 天栄村 | D234: 平成２７年度 | E234: 沢邸地区 資源保全会
C235: 天栄村計 | E235: =COUNTA(E218:E234) -> 17
B236: 県中 | C236: 石川町 | D236: 平成１９年度 | E236: 和久農地水 環境保全協議会
B237: 県中 | C237: 石川町 | D237: 平成１９年度 | E237: 王子平環境 推進協議会
B238: 県中 | C238: 石川町 | D238: 平成１９年度 | E238: 板西集落 資源保全会
B239: 県中 | C239: 石川町 | D239: 平成１９年度 | E239: 板南集落 資源保全会
B240: 県中 | C240: 石川町 | D240: 平成１９年度 | E240: 赤羽集落 環境保全会
B241: 県中 | C241: 石川町 | D241: 平成１９年度 | E241: 曲木農地環境 保全推進会
B242: 県中 | C242: 石川町 | D242: 平成１９年度 | E242: 沢井集落 資源保全会
B243: 県中 | C243: 石川町 | D243: 平成２０年度 | E243: 南山形集落 資源保全会
B244: 県中 | C244: 石川町 | D244: 平成２６年度 | E244: 坂路集落 資源保全会
B245: 県中 | C245: 石川町 | D245: 平成２６年度 | E245: 新屋敷地域 資源保全会
B246: 県中 | C246: 石川町 | D246: 平成２６年度 | E246: 福田大室集落 資源保全会
B247: 県中 | C247: 石川町 | D247: 平成２６年度 | E247: 塩ノ沢集落 資源保全会
... B256: 県中 | C256: 石川町 | D256: 令和４年度 | E256: 大下松原資源保全会
C257: 石川町計 | E257: =COUNTA(E236:E256) -> 21
B258: 県中 | C258: 玉川村 | D258: 平成１９年度 | E258: 吉地区 環境保全隊
B259: 県中 | C259: 玉川村 | D259: 平成１９年度 | E259: 山小屋地区 環境保全会
B260: 県中 | C260: 玉川村 | D260: 平成１９年度 | E260: 北須釜 農地水保全会
B261: 県中 | C261: 玉川村 | D261: 平成１９年度 | E261: 川辺ふるさと会
B262: 県中 | C262: 玉川村 | D262: 平成１９年度 | E262: 蒜生地区 環境保全会
B263: 県中 | C263: 玉川村 | D263: 平成１９年度 | E263: 岩法寺地区 環境保全会
B264: 県中 | C264: 玉川村 | D264: 平成１９年度 | E264: 中地区 環境保全会
B265: 県中 | C265: 玉川村 | D265: 平成１９年度 | E265: 竜崎田農水隊
B266: 県中 | C266: 玉川村 | D266: 平成１９年度 | E266: 南須釜 環境保全会
B267: 県中 | C267: 玉川村 | D267: 平成１９年度 | E267: 四辻新田 環境保全会
B268: 県中 | C268: 玉川村 | D268: 平成２６年度 | E268: 小高地域 活性化協議会
C269: 玉川村計 | E269: =COUNTA(E258:E268) -> 11
B270: 県中 | C270: 平田村 | D270: 平成１９年度 | E270: 水土里ネット永田
B271: 県中 | C271: 平田村 | D271: 平成１９年度 | E271: 小松原水環組合
B272: 県中 | C272: 平田村 | D272: 平成１９年度 | E272: 下蓬田 環境保全組合
B273: 県中 | C273: 平田村 | D273: 平成１９年度 | E273: 打違内 環境保全会
B274: 県中 | C274: 平田村 | D274: 平成１９年度 | E274: 乙空釜 環境保全会
B275: 県中 | C275: 平田村 | D275: 平成１９年度 | E275: 北屋敷 水と緑の会
B276: 県中 | C276: 平田村 | D276: 平成１９年度 | E276: 蓬田新田地区 環境保全会
B277: 県中 | C277: 平田村 | D277: 平成１９年度 | E277: 九生滝地区 資源保全会
...

Sheet (○）県南
C1: ='（○）県北'!C1 -> 令和６年度 農地維持支払活動活動組織一覧表
B2: 管内 | C2: 市町村名 | D2: 認定年度 （採択年度） | E2: 活動組織名
B6: 県南 | C6: 白河市 | D6: 平成１９年度 | E6: 皮籠 ゆうゆうクラブ
B7: 県南 | C7: 白河市 | D7: 平成１９年度 | E7: 深渡戸 ふるさと保全会
B8: 県南 | C8: 白河市 | D8: 平成１９年度 | E8: 反町 ふるさと守る会
B9: 県南 | C9: 白河市 | D9: 平成１９年度 | E9: 石阿弥陀 ロマンクラブ
B10: 県南 | C10: 白河市 | D10: 平成１９年度 | E10: 百目木ふるさと 環境資源保全会
B11: 県南 | C11: 白河市 | D11: 平成１９年度 | E11: 千田地区 ふるさとづくり会
B12: 県南 | C12: 白河市 | D12: 平成１９年度 | E12: 小田川 環境保全会
B13: 県南 | C13: 白河市 | D13: 平成１９年度 | E13: 弘法清水会
B14: 県南 | C14: 白河市 | D14: 平成１９年度 | E14: 板倉環境保全会
B15: 県南 | C15: 白河市 | D15: 平成１９年度 | E15: 上新城 大地の番人
B16: 県南 | C16: 白河市 | D16: 平成２４年度 | E16: 久田野地区 農地・水・環境 保全会
... B73: 県南 | C73: 白河市 | D73: 令和５年度 | E73: 芳賀須内保全会
A74: ○ | C74: 白河市計 | E74: =COUNTA(E6:E73) -> 68
B75: 県南 | C75: 西郷村 | D75: 平成１９年度 | E75: 上羽太鶴ほたる
B76: 県南 | C76: 西郷村 | D76: 平成１９年度 | E76: 追原 清流かじかの里
B77: 県南 | C77: 西郷村 | D77: 平成１９年度 | E77: 真船 ふるさとつくりたい
B78: 県南 | C78: 西郷村 | D78: 平成１９年度 | E78: 熊倉 どじょっこクラブ
B79: 県南 | C79: 西郷村 | D79: 平成２７年度 | E79: 山下中島耕地組合
B80: 県南 | C80: 西郷村 | D80: 平成２７年度 | E80: むしかさの里
B81: 県南 | C81: 西郷村 | D81: 平成２８年度 | E81: 由井ヶ原 守る会
B82: 県南 | C82: 西郷村 | D82: 平成２９年度 | E82: 小田倉水利組合
B83: 県南 | C83: 西郷村 | D83: 平成２９年度 | E83: 堀川源流イン 芝原保全会
B84: 県南 | C84: 西郷村 | D84: 令和４年度 | E84: 谷津田川源流保全会
A85: ○ | C85: 西郷村計 | E85: =COUNTA(E75:E84) -> 10
B86: 県南 | C86: 棚倉町 | D86: 平成１９年度 | E86: Eco中山 農村環境保全会
B87: 県南 | C87: 棚倉町 | D87: 平成２１年度 | E87: 寺山地区 農村環境保全会
B88: 県南 | C88: 棚倉町 | D88: 平成２１年度 | E88: ながれ環境保全会
B89: 県南 | C89: 棚倉町 | D89: 平成２１年度 | E89: 福井 農村環境保全会
B90: 県南 | C90: 棚倉町 | D90: 平成２５年度 | E90: 玉野農地保全会
B91: 県南 | C91: 棚倉町 | D91: 平成２５年度 | E91: 堤環境保全会
B92: 県南 | C92: 棚倉町 | D92: 平成２５年度 | E92: 一色環境保全会
B93: 県南 | C93: 棚倉町 | D93: 平成２６年度 | E93: 双ノ平環境保全会
B94: 県南 | C94: 棚倉町 | D94: 平成２６年度 | E94: 逆川環境保全会
B95: 県南 | C95: 棚倉町 | D95: 平成２７年度 | E95: 板橋地区 環境保全会
B96: 県南 | C96: 棚倉町 | D96: 平成２７年度 | E96: 下手沢環境保全会
B97: 県南 | C97: 棚倉町 | D97: 平成２７年度 | E97: 八槻地区 環境保全会
... B100: 県南 | C100: 棚倉町 | D100: 平成３０年度 | E100: 小祝ふるさと保全会
A101: ○ | C101: 棚倉町計 | E101: =COUNTA(E86:E100) -> 15
B102: 県南 | C102: 塙町 | D102: 平成１９年度 | E102: 台宿水と資源を 守る会
B103: 県南 | C103: 塙町 | D103: 平成１９年度 | E103: 里山ネット植田
B104: 県南 | C104: 塙町 | D104: 平成１９年度 | E104: 上渋井菜の花の会
B105: 県南 | C105: 塙町 | D105: 平成１９年度 | E105: 伊香清流の郷
B106: 県南 | C106: 塙町 | D106: 平成２６年度 | E106: 東河内地域 資源保全会
B107: 県南 | C107: 塙町 | D107: 平成２７年度 | E107: 西河内環境保全 活動組織
B108: 県南 | C108: 塙町 | D108: 平成２７年度 | E108: 一本木地域 資源保全会
B109: 県南 | C109: 塙町 | D109: 平成２７年度 | E109: 中山間豊内地区
B110: 県南 | C110: 塙町 | D110: 平成２８年度 | E110: 水元農村環境 保全協議会
A111: ○ | C111: 塙町計 | E111: =COUNTA(E102:E110) -> 9
B112: 県南 | C112: 矢吹町 | D112: 平成２６年度 | E112: 矢吹町中野目 地域資源保全会
B113: 県南 | C113: 矢吹町 | D113: 平成２６年度 | E113: 田内地区 自然を守る会
B114: 県南 | C114: 矢吹町 | D114: 平成２６年度 | E114: 大和久水利組合
B115: 県南 | C115: 矢吹町 | D115: 平成２６年度 | E115: 鍋内環境活動組織
B116: 県南 | C116: 矢吹町 | D116: 平成２６年度 | E116: 一本木地区 活動組織
B117: 県南 | C117: 矢吹町 | D117: 平成２６年度 | E117: 寺内環境を守る会
B118: 県南 | C118: 矢吹町 | D118: 平成２６年度 | E118: 大畑保全会
B119: 県南 | C119: 矢吹町 | D119: 平成２６年度 | E119: 須乗本田 地域資源保全会
B120: 県南 | C120: 矢吹町 | D120: 平成２６年度 | E120: 原宿活動組織
B121: 県南 | C121: 矢吹町 | D121: 平成２６年度 | E121: 長峰農地維持組合
B122: 県南 | C122: 矢吹町 | D122: 平成２６年度 | E122: 平鉢地域保全会
B123: 県南 | C123: 矢吹町 | D123: 平成２６年度 | E123: 新田地区保全会
... B135: 県南 | C135: 矢吹町 | D135: 令和５年度 | E135: 三角林地域保全会
A136: ○ | C136: 矢吹町計 | E136: =COUNTA(E112:E135) -> 24
B137: 県南 | C137: 泉崎村 | D137: 平成２６年度 | E137: 踏瀬 地域資源保全会
B138: 県南 | C138: 泉崎村 | D138: 平成２６年度 | E138: 原地域資源保全会
B139: 県南 | C139: 泉崎村 | D139: 平成２６年度 | E139: 入中地域資源保全会
B140: 県南 | C140: 泉崎村 | D140: 平成２６年度 | E140: 泉崎東部 保全会
C141: 泉崎村計 | E141: =COUNTA(E137:E140) -> 4
B142: 県南 | C142: 中島村 | D142: 平成２６年度 | E142: 小針地区 地域資源保全会
B143: 県南 | C143: 中島村 | D143: 平成２７年度 | E143: 岡ノ内地域 資源保全会
B144: 県南 | C144: 中島村 | D144: 平成２７年度 | E144: 代畑環境保全会
B145: 県南 | C145: 中島村 | D145: 平成２７年度 | E145: 川原田地域 資源保全会
B146: 県南 | C146: 中島村 | D146: 平成２７年度 | E146: 元村地域 資源保全会
B147: 県南 | C147: 中島村 | D147: 平成２７年度 | E147: 二子塚地区 資源保全会
B148: 県南 | C148: 中島村 | D148: 平成２８年度 | E148: 松崎 資源保全会
C149: 中島村計 | E149: =COUNTA(E142:E148) -> 7
B150: 県南 | C150: 矢祭町 | D150: 平成２６年度 | E150: 下石井の水田を守る会
B151: 県南 | C151: 矢祭町 | D151: 平成２６年度 | E151: 高野谷地地区 保全会
B152: 県南 | C152: 矢祭町 | D152: 平成２６年度 | E152: 道ヶ作 水利保全会
B153: 県南 | C153: 矢祭町 | D153: 平成２６年度 | E153: 黒助向稲穂会
B154: 県南 | C154: 矢祭町 | D154: 平成２６年度 | E154: 高山地域 保全会
B155: 県南 | C155: 矢祭町 | D155: 平成２６年度 | E155: 清水内地区 保全会
B156: 県南 | C156: 矢祭町 | D156: 平成２６年度 | E156: 奥田用水 保全会
B157: 県南 | C157: 矢祭町 | D157: 平成２６年度 | E157: 戸塚地区 水田保全会
B158: 県南 | C158: 矢祭町 | D158: 平成２７年度 | E158: 押舘集落保全会
B159: 県南 | C159: 矢祭町 | D159: 平成２７年度 | E159: 下関中央 水利組合
B160: 県南 | C160: 矢祭町 | D160: 平成２７年度 | E160: 上野内用水組合
B161: 県南 | C161: 矢祭町 | D161: 平成２７年度 | E161: 竹ノ内集落 保全会
... B166: 県南 | C166: 矢祭町 | D166: 平成２９年度 | E166: 上川原地域緑会
A167: ○ | C167: 矢祭町計 | E167: =COUNTA(E150:E166) -> 17
B168: 県南 | C168: 鮫川村 | D168: 平成２６年度 | E168: 熊野集落
B169: 県南 | C169: 鮫川村 | D169: 平成２６年度 | E169: 酒垂集落
B170: 県南 | C170: 鮫川村 | D170: 平成２６年度 | E170: 塚本集落
B171: 県南 | C171: 鮫川村 | D171: 平成２６年度 | E171: 草牛集落
B172: 県南 | C172: 鮫川村 | D172: 平成２６年度 | E172: 吉合・大久保集落
B173: 県南 | C173: 鮫川村 | D173: 平成２６年度 | E173: 西山二区集落
B174: 県南 | C174: 鮫川村 | D174: 平成２６年度 | E174: 西山中央集落
B175: 県南 | C175: 鮫川村 | D175: 平成２６年度 | E175: 岩野草集落
B176: 県南 | C176: 鮫川村 | D176: 平成２６年度 | E176: 馬場集落
...

Sheet （○）会津
C1: ='（○）県北'!C1 -> 令和６年度 農地維持支払活動活動組織一覧表
B2: 管内 | C2: 市町村名 | D2: 認定年度 （採択年度） | E2: 活動組織名
B6: 会津 | C6: 会津若松市 | D6: 平成１９年度 | E6: 寺堀環境保全隊
B7: 会津 | C7: 会津若松市 | D7: 平成１９年度 | E7: 崎川集落 資源保全会
B8: 会津 | C8: 会津若松市 | D8: 平成１９年度 | E8: 上吉田環境保全 活動協議会
B9: 会津 | C9: 会津若松市 | D9: 平成１９年度 | E9: 大豆田ふるさと 環境保全会
B10: 会津 | C10: 会津若松市 | D10: 平成１９年度 | E10: 東田面の ふるさとを守る会
B11: 会津 | C11: 会津若松市 | D11: 平成１９年度 | E11: 森台環境保全会
B12: 会津 | C12: 会津若松市 | D12: 平成２４年度 | E12: 平塚環境保全会
B13: 会津 | C13: 会津若松市 | D13: 平成２４年度 | E13: 下馬渡農地・水 環境保全会
B14: 会津 | C14: 会津若松市 | D14: 平成２４年度 | E14: 中田浜 環境保全会
B15: 会津 | C15: 会津若松市 | D15: 平成２４年度 | E15: 西田面地区 農地と水を守る会
B16: 会津 | C16: 会津若松市 | D16: 平成２６年度 | E16: 北高野活動組織
... B54: 会津 | C54: 会津若松市 | D54: 平成２６年度 | E54: 南原農地維持管理活動組織
A55: 24 | B55: 会津 | C55: 会津若松市 | D55: 平成２６年度 | E55: 高久の環境を 守る会
B56: 会津 | C56: 会津若松市 | D56: 平成２６年度 | E56: 柏原農地維持 活動組織
B57: 会津 | C57: 会津若松市 | D57: 平成２６年度 | E57: 冬木沢環境保全会
B58: 会津 | C58: 会津若松市 | D58: 平成２６年度 | E58: 浅野地域活動組織
B59: 会津 | C59: 会津若松市 | D59: 平成２６年度 | E59: 赤井あすなろ会
B60: 会津 | C60: 会津若松市 | D60: 平成２６年度 | E60: 一ノ堰農地環境 保全の会
B61: 会津 | C61: 会津若松市 | D61: 平成２６年度 | E61: 香塩地区 活動組織
B62: 会津 | C62: 会津若松市 | D62: 平成２６年度 | E62: 天満農地維持 活動組織
B63: 会津 | C63: 会津若松市 | D63: 平成２６年度 | E63: 京手多面的 活動推進会
B64: 会津 | C64: 会津若松市 | D64: 平成２６年度 | E64: 柳原農地維持組合
B65: 会津 | C65: 会津若松市 | D65: 平成２６年度 | E65: 東神指環境守る会
B66: 会津 | C66: 会津若松市 | D66: 平成２６年度 | E66: 横沼農地保全会
B67: 会津 | C67: 会津若松市 | D67: 平成２６年度 | E67: 界沢環境保全会
... B100: 会津 | C100: 会津若松市 | D100: 令和６年度 | E100: 高畑ふるさとを守る会
C101: 会津若松市計 | E101: =COUNTA(E6:E100) -> 95
B102: 会津 | C102: 喜多方市 | D102: 平成１９年度 | E102: 入田付 環境保全委員会
B103: 会津 | C103: 喜多方市 | D103: 平成１９年度 | E103: 天井沢 どじょうの会
B104: 会津 | C104: 喜多方市 | D104: 平成１９年度 | E104: 上田地域 資源保全委員会
B105: 会津 | C105: 喜多方市 | D105: 平成１９年度 | E105: 赤星環境保全会
B106: 会津 | C106: 喜多方市 | D106: 平成１９年度 | E106: 西鎧召 環境保全委員会
B107: 会津 | C107: 喜多方市 | D107: 平成１９年度 | E107: 舟岡行政区 活動組織
B108: 会津 | C108: 喜多方市 | D108: 平成１９年度 | E108: 上林地区 環境保全協議会
B109: 会津 | C109: 喜多方市 | D109: 平成１９年度 | E109: 大林堰水系 活動組織
B110: 会津 | C110: 喜多方市 | D110: 平成１９年度 | E110: 宮月地区農地・ 水・環境保全協議会
B111: 会津 | C111: 喜多方市 | D111: 平成１９年度 | E111: 堰沢村づくり 推進協議会
B112: 会津 | C112: 喜多方市 | D112: 平成１９年度 | E112: 千咲原 営農改善協議会
B113: 会津 | C113: 喜多方市 | D113: 平成１９年度 | E113: 東羽賀 環境保全会
... B215: 会津 | C215: 喜多方市 | D215: 令和６年度 | E215: 勝本環境保全会
C216: 喜多方市計 | E216: =COUNTA(E102:E215) -> 114
B217: 会津 | C217: 北塩原村 | D217: 令和２年度 | E217: 北塩原村多面的機能支払広域協定
C218: 北塩原村計 | E218: =COUNTA(E217:E217) -> 1
B219: 会津 | C219: 西会津町 | D219: 平成１９年度 | E219: 農地・水・環境保全組織にしあいづ水・土・里環境委員会
C220: 西会津町計 | E220: =COUNTA(E219) -> 1
B221: 会津 | C221: 磐梯町 | D221: 平成１９年度 | E221: 法正尻 環境保全組合
B222: 会津 | C222: 磐梯町 | D222: 平成２７年度 | E222: 一の沢集落協定
B223: 会津 | C223: 磐梯町 | D223: 平成２７年度 | E223: 赤枝集落協定
B224: 会津 | C224: 磐梯町 | D224: 令和２年度 | E224: 本寺集落協定
B225: 会津 | C225: 磐梯町 | D225: 令和５年度 | E225: ライステラス大谷多面的活動組織
A226: ○ | C226: 磐梯町計 | E226: =COUNTA(E221:E225) -> 5
B227: 会津 | C227: 猪苗代町 | D227: 平成１９年度 | E227: 長坂ふるさと 資源保存会
B228: 会津 | C228: 猪苗代町 | D228: 平成１９年度 | E228: 土町 里づくり協議会
B229: 会津 | C229: 猪苗代町 | D229: 平成１９年度 | E229: 釜井集落 資源保全会
B230: 会津 | C230: 猪苗代町 | D230: 平成１９年度 | E230: 烏帽子東真行集落資源保存会
B231: 会津 | C231: 猪苗代町 | D231: 平成１９年度 | E231: 土田集落 資源保全会
B232: 会津 | C232: 猪苗代町 | D232: 平成１９年度 | E232: 西舘地区 資源保全会
B233: 会津 | C233: 猪苗代町 | D233: 平成１９年度 | E233: 相名目農地・水 保全活動組織
B234: 会津 | C234: 猪苗代町 | D234: 平成１９年度 | E234: 打越地区 資源保全会
B235: 会津 | C235: 猪苗代町 | D235: 平成１９年度 | E235: 富永集落 資源保全会
B236: 会津 | C236: 猪苗代町 | D236: 平成１９年度 | E236: 百目貫 環境資源保全会
B237: 会津 | C237: 猪苗代町 | D237: 平成１９年度 | E237: 仁蔵 資源環境保全会
B238: 会津 | C238: 猪苗代町 | D238: 平成１９年度 | E238: 堤崎集落 資源保全会
... B262: 会津 | C262: 猪苗代町 | D262: 令和６年度 | E262: 猪苗代町広域活動組織
A263: ○ | C263: 猪苗代町計 | E263: =COUNTA(E227:E262) -> 36
B264: 会津 | C264: 会津坂下町 | D264: 平成１９年度 | E264: 牛沢 環境保全委員会
B265: 会津 | C265: 会津坂下町 | D265: 平成１９年度 | E265: 勝方地域農地水 環境を守る会
B266: 会津 | C266: 会津坂下町 | D266: 平成１９年度 | E266: 樋渡 環境保全協議会
B267: 会津 | C267: 会津坂下町 | D267: 平成１９年度 | E267: 水島 環境保全委員会
B268: 会津 | C268: 会津坂下町 | D268: 平成１９年度 | E268: 沖 環境保全協議会
B269: 会津 | C269: 会津坂下町 | D269: 平成１９年度 | E269: 羽林みどり会
B270: 会津 | C270: 会津坂下町 | D270: 平成１９年度 | E270: 矢ノ目 環境保全委員会
B271: 会津 | C271: 会津坂下町 | D271: 平成１９年度 | E271: 上金沢 生活環境倶楽部
B272: 会津 | C272: 会津坂下町 | D272: 平成１９年度 | E272: 金沢夢集団
B273: 会津 | C273: 会津坂下町 | D273: 平成１９年度 | E273: 上新田 環境保全会
B274: 会津 | C274: 会津坂下町 | D274: 平成１９年度 | E274: 中村農地・水環境 保全向上委員会
B275: 会津 | C275: 会津坂下町 | D275: 平成１９年度 | E275: 福原 環境保全協議会
... B310: 会津 | C310: 会津坂下町 | D310: 令和３年度 | E310: 坂下西部地域多面的機能広域協定組織
C311: 会津坂下町計 | E311: =COUNTA(E264:E310) -> 47
B312: 会津 | C312: 湯川村 | D312: 平成１９年度 | E312: 住みよい田中を つくる会
B313: 会津 | C313: 湯川村 | D313: 平成１９年度 | E313: 勝常区 環境保全会
B314: 会津 | C314: 湯川村 | D314: 平成１９年度 | E314: ひらめく北田 活動組織
B315: 会津 | C315: 湯川村 | D315: 平成２０年度 | E315: 中ノ目みどり 保全隊
B316: 会津 | C316: 湯川村 | D316: 平成２４年度 | E316: 高瀬環境を 守る会
B317: 会津 | C317: 湯川村 | D317: 平成２４年度 | E317: 水谷地 農地水保全会
B318: 会津 | C318: 湯川村 | D318: 平成２７年度 | E318: 上樽川 水とみどりを守る会
B319: 会津 | C319: 湯川村 | D319: 平成２７年度 | E319: 佐野 環境保全会
B320: 会津 | C320: 湯川村 | D320: 平成２８年度 | E320: 湯川村農地 保全協議会
A321: ○ | C321: 湯川村計 | E321: =COUNTA(E312:E320) -> 9
B322: 会津 | C322: 柳津町 | D322: 平成１９年度 | E322: 柳津町農地・水・ 環境保全協議会（農地・水・環境保全組織）
A323: ○ | C323: 柳津町計 | E323: =COUNTA(E322) -> 1
B324: 会津 | C324: 昭和村 | D324: 平成１９年度 | E324: 松山地域 保全協議会
B325: 会津 | C325: 昭和村 | D325: 平成１９年度 | E325: 野尻ゆいクラブ
B326: 会津 | C326: 昭和村 | D326: 平成１９年度 | E326: 大芦地域保全会
B327: 会津 | C327: 昭和村 | D327: 平成２０年度 | E327: 小野川 農水環保全クラブ
B328: 会津 | C328: 昭和村 | D328: 平成２４年度 | E328: 中向 農地水保全会
B329: 会津 | C329: 昭和村 | D329: 平成２４年度 | E329: 下中津川 農地水保全組合
B330: 会津 | C330: 昭和村 | D330: 平成２４年度 | E330: 小中津川 ゆいクラブ
...

Sheet （○）南会津
C1: ='（○）県北'!C1 -> 令和６年度 農地維持支払活動活動組織一覧表
B2: 管内 | C2: 市町村名 | D2: 認定年度 （採択年度） | E2: 活動組織名
B6: 南会津 | C6: 下郷町 | D6: 平成１９年度 | E6: 音金農地・水 環境保全組合
B7: 南会津 | C7: 下郷町 | D7: 平成１９年度 | E7: 張平ふるさと 保全会
B8: 南会津 | C8: 下郷町 | D8: 平成２４年度 | E8: ふるさと落合 保全会
B9: 南会津 | C9: 下郷町 | D9: 平成２６年度 | E9: 戸赤保全会
B10: 南会津 | C10: 下郷町 | D10: 平成２６年度 | E10: 小池保全会
B11: 南会津 | C11: 下郷町 | D11: 平成２６年度 | E11: 倉村 ふるさと保存会
B12: 南会津 | C12: 下郷町 | D12: 平成２７年度 | E12: 楢原郷保全会
B13: 南会津 | C13: 下郷町 | D13: 平成２７年度 | E13: 水門保全会
B14: 南会津 | C14: 下郷町 | D14: 平成２７年度 | E14: 大内保全会
B15: 南会津 | C15: 下郷町 | D15: 平成２８年度 | E15: 塩生 ふるさと保存会
B16: 南会津 | C16: 下郷町 | D16: 平成３０年度 | E16: 中妻地域保全会
B17: 南会津 | C17: 下郷町 | D17: 令和５年度 | E17: 大松川保全会
A18: ○ | C18: 下郷町計 | E18: =COUNTA(E6:E17) -> 12
B19: 南会津 | C19: 只見町 | D19: 平成１９年度 | E19: 梁取集落保全会
B20: 南会津 | C20: 只見町 | D20: 平成１９年度 | E20: 二軒在家地域 保全協議会
B21: 南会津 | C21: 只見町 | D21: 平成１９年度 | E21: 大倉地域 資源保全隊
B22: 南会津 | C22: 只見町 | D22: 平成１９年度 | E22: 亀岡ふるさと会
B23: 南会津 | C23: 只見町 | D23: 平成１９年度 | E23: 熊倉集落 資源保全会
B24: 南会津 | C24: 只見町 | D24: 平成１９年度 | E24: 荒島保全会
B25: 南会津 | C25: 只見町 | D25: 平成１９年度 | E25: 長浜保全会
B26: 南会津 | C26: 只見町 | D26: 平成１９年度 | E26: 黒朝活動組織
B27: 南会津 | C27: 只見町 | D27: 平成１９年度 | E27: 下福井地域 資源保全会
B28: 南会津 | C28: 只見町 | D28: 平成１９年度 | E28: 小川地域 資源保全会
B29: 南会津 | C29: 只見町 | D29: 平成２８年度 | E29: 小林集落保全会
B30: 南会津 | C30: 只見町 | D30: 平成２８年度 | E30: 楢戸集落 多面的機能保全会
B31: 南会津 | C31: 只見町 | D31: 令和２年度 | E31: 入叶津地区農村環境保全会
A32: ○ | C32: 只見町計 | E32: =COUNTA(E19:E31) -> 13
B33: 南会津 | C33: 南会津町 | D33: 平成２４年度 | E33: かわしま水土里 クラブ活動組織
B34: 南会津 | C34: 南会津町 | D34: 平成２４年度 | E34: 白沢農地・水・ 環境保全会
B35: 南会津 | C35: 南会津町 | D35: 平成２４年度 | E35: 鴇巣環境保全会
B36: 南会津 | C36: 南会津町 | D36: 平成２４年度 | E36: 永田農地・水保全 管理組合活動組織
B37: 南会津 | C37: 南会津町 | D37: 平成２５年度 | E37: なかあらい大地を育む会活動組織
B38: 南会津 | C38: 南会津町 | D38: 平成２５年度 | E38: 関本みどりクラブ
B39: 南会津 | C39: 南会津町 | D39: 平成２５年度 | E39: 古今環境整備活動組織
B40: 南会津 | C40: 南会津町 | D40: 平成２５年度 | E40: 丹藤農地・水保全管理組合活動組織
B41: 南会津 | C41: 南会津町 | D41: 平成２５年度 | E41: 田部環境保全会
B42: 南会津 | C42: 南会津町 | D42: 平成２５年度 | E42: 宮沢農地・水保全管理会
B43: 南会津 | C43: 南会津町 | D43: 平成２５年度 | E43: 古町環境保全協議会
B44: 南会津 | C44: 南会津町 | D44: 平成２５年度 | E44: 和泉田環境保全会
... B56: 南会津 | C56: 南会津町 | D56: 平成２８年度 | E56: 福米沢 農地保全組合
A57: ○ | C57: 南会津町計 | E57: =COUNTA(E33:E56) -> 24
B58: 南会津計 | C58: =COUNTA(C18,C32,C57) -> 3 | E58: =SUM(E18,E32,E57) -> 49
C228: =C58 -> 3 | E228: =E58 -> 49

Sheet (○)相双
C1: ='（○）県北'!C1 -> 令和６年度 農地維持支払活動活動組織一覧表
B2: 管内 | C2: 市町村名 | D2: 認定年度 （採択年度） | E2: 活動組織名
B6: 相双 | C6: 相馬市 | D6: 平成２１年度 | E6: 玉野地区農地・ 水・環境保全会
B7: 相双 | C7: 相馬市 | D7: 平成２１年度 | E7: 東玉野地区 環境保全会
B8: 相双 | C8: 相馬市 | D8: 平成２１年度 | E8: 日下石第１区農地・ 水・環境保全会
B9: 相双 | C9: 相馬市 | D9: 平成２５年度 | E9: 山上地区農地・水・環境保全会
B10: 相双 | C10: 相馬市 | D10: 平成２６年度 | E10: 中野地区環境保全会
B11: 相双 | C11: 相馬市 | D11: 平成２６年度 | E11: 下今田地区 環境保全会
B12: 相双 | C12: 相馬市 | D12: 平成２６年度 | E12: 小野地区環境保全会
B13: 相双 | C13: 相馬市 | D13: 平成２６年度 | E13: e-toyo環境保全会
B14: 相双 | C14: 相馬市 | D14: 平成２６年度 | E14: 磯部中央環境保全会
B15: 相双 | C15: 相馬市 | D15: 平成２６年度 | E15: 本笑地区 環境保全会
B16: 相双 | C16: 相馬市 | D16: 平成２６年度 | E16: 蟹這堰地区 環境保全会
... B33: 相双 | C33: 相馬市 | D33: 令和５年度 | E33: 獺庭地区環境保全会
C34: 相馬市計 | E34: =COUNTA(E6:E33) -> 28
B35: 相双 | C35: 南相馬市 | D35: 平成１９年度 | E35: 上太田地域 資源保全隊
B36: 相双 | C36: 南相馬市 | D36: 平成１９年度 | E36: 益田地域 資源保全隊
B37: 相双 | C37: 南相馬市 | D37: 平成１９年度 | E37: 馬場地域 資源保全会
B38: 相双 | C38: 南相馬市 | D38: 平成１９年度 | E38: 押釜地域 環境保全会
B39: 相双 | C39: 南相馬市 | D39: 平成１９年度 | E39: 報徳の里深野を 守る会
B40: 相双 | C40: 南相馬市 | D40: 平成１９年度 | E40: 北新田地域 資源保全会
B41: 相双 | C41: 南相馬市 | D41: 平成１９年度 | E41: 石神グリーン レンジャー隊
B42: 相双 | C42: 南相馬市 | D42: 平成１９年度 | E42: 下北高平 環境保全会
B43: 相双 | C43: 南相馬市 | D43: 平成１９年度 | E43: 上北高平第一 地域資源保全隊
B44: 相双 | C44: 南相馬市 | D44: 平成１９年度 | E44: 台田中農地水 環境保全隊
B45: 相双 | C45: 南相馬市 | D45: 平成１９年度 | E45: 寺内農地水 環境保全隊
B46: 相双 | C46: 南相馬市 | D46: 平成１９年度 | E46: 桜平農地水 環境保全隊
... B89: 相双 | C89: 南相馬市 | D89: 令和６年度 | E89: 岡田環境保全会
A90: ○ | C90: 南相馬市計 | E90: =COUNTA(E35:E89) -> 55
B91: 相双 | C91: 新地町 | D91: 平成１９年度 | E91: 真弓 農水環保全会
B92: 相双 | C92: 新地町 | D92: 平成１９年度 | E92: 杉目地域 資源保全会
B93: 相双 | C93: 新地町 | D93: 平成２６年度 | E93: 菅谷地区 活動組織
B94: 相双 | C94: 新地町 | D94: 平成２６年度 | E94: 藤崎地区 地域資源保全会
B95: 相双 | C95: 新地町 | D95: 平成２６年度 | E95: 富倉地区 地域資源保全会
B96: 相双 | C96: 新地町 | D96: 平成２７年度 | E96: 福田地区 農地保全会
B97: 相双 | C97: 新地町 | D97: 平成２７年度 | E97: 谷地小屋地区 地域資源保全会
B98: 相双 | C98: 新地町 | D98: 平成２７年度 | E98: 埒木崎環境保全会
B99: 相双 | C99: 新地町 | D99: 平成２８年度 | E99: 木崎水利組合 地域資源保全会
B100: 相双 | C100: 新地町 | D100: 平成３０年度 | E100: 作田地域資源保全会
A101: ○ | C101: 新地町計 | E101: =COUNTA(E91:E100) -> 10
B102: 相双 | C102: 飯舘村 | D102: 令和６年度 | E102: 飯舘村多面的機能広域協定
A103: ○ | C103: 飯舘村計 | E103: =COUNTA(E102:E102) -> 1
B104: 相双 | C104: 広野町 | D104: 平成２６年度 | E104: 広野町農地維持 広域協定
C105: 広野町計 | E105: =COUNTA(E104:E104) -> 1
B106: 相双 | C106: 川内村 | D106: 平成２６年度 | E106: 川内村農村環境 保全広域協定
C107: 川内村計 | E107: =COUNTA(E106) -> 1
B108: 相双 | C108: 浪江町 | D108: 平成２７年度 | E108: 酒田環境保全会
B109: 相双 | C109: 浪江町 | D109: 平成２７年度 | E109: 立野連絡協議会
B110: 相双 | C110: 浪江町 | D110: 平成２８年度 | E110: 西台地域 資源保全会
B111: 相双 | C111: 浪江町 | D111: 平成２８年度 | E111: 藤橋地域 資源保全会
B112: 相双 | C112: 浪江町 | D112: 平成２８年度 | E112: 北棚塩ふる里保全会
B113: 相双 | C113: 浪江町 | D113: 平成２９年度 | E113: 苅宿環境保全会
B114: 相双 | C114: 浪江町 | D114: 平成２９年度 | E114: 加倉地域 資源保全会
B115: 相双 | C115: 浪江町 | D115: 令和３年度 | E115: 樋渡・牛渡環境保全会
B116: 相双 | C116: 浪江町 | D116: 令和３年度 | E116: 幾世橋保全会
B117: 相双 | C117: 浪江町 | D117: 令和３年度 | E117: 大字高瀬環境保全会
B118: 相双 | C118: 浪江町 | D118: 令和５年度 | E118: 室原環境保全組合
B119: 相双 | C119: 浪江町 | D119: 令和６年度 | E119: 田尻地域資源保全会
A120: ○ | C120: 浪江町計 | E120: =COUNTA(E108:E119) -> 12
B121: 相双 | C121: 楢葉町 | D121: 平成３１年度 | E121: 楢葉町多面的機能広域活動保全会
C122: 楢葉町計 | E122: =COUNTA(E121) -> 1
B123: 相双 | C123: 富岡町 | D123: 令和２年度 | E123: 富岡町多面的機能広域活動保全会
C124: 富岡町計 | E124: =COUNTA(E123) -> 1
B125: 相双 | C125: 葛尾村 | D125: 令和３年度 | E125: 葛尾地域環境保全会
C126: 葛尾村計 | E126: =COUNTA(E125) -> 1
B127: 相双計 | C127: =COUNTA(C122,C120,C107,C105,C103,C101,C90,C34,C124,C126) -> 10 | E127: =E122+E120+E107+E105+E103+E101+E90+E34+E124+E126 -> 111

Sheet （○）いわき
C1: ='（○）県北'!C1 -> 令和６年度 農地維持支払活動活動組織一覧表
B2: 管内 | C2: 市町村名 | D2: 認定年度 （採択年度） | E2: 活動組織名
B6: いわき | C6: いわき市 | D6: 平成１９年度 | E6: 愛谷江筋愛護会
B7: いわき | C7: いわき市 | D7: 平成１９年度 | E7: 上高久地区 環境保全隊
B8: いわき | C8: いわき市 | D8: 平成１９年度 | E8: 中神谷地区 資源保全会
B9: いわき | C9: いわき市 | D9: 平成１９年度 | E9: 馬目区 資源保全隊
B10: いわき | C10: いわき市 | D10: 平成１９年度 | E10: 絹谷チロリン隊
B11: いわき | C11: いわき市 | D11: 平成１９年度 | E11: 川部地区保全会
B12: いわき | C12: いわき市 | D12: 平成１９年度 | E12: 蛭田川南部地域 環境保全協議会
B13: いわき | C13: いわき市 | D13: 平成１９年度 | E13: 添野地域 資源保全会
B14: いわき | C14: いわき市 | D14: 平成１９年度 | E14: 狐塚地区 資源保全会
B15: いわき | C15: いわき市 | D15: 平成１９年度 | E15: 赤沼環境保全会
B16: いわき | C16: いわき市 | D16: 平成１９年度 | E16: 下小川区 環境を守る会
... B54: いわき | C54: いわき市 | D54: 令和６年度 | E54: 下片寄環境保全会
A55: ○ | C55: いわき市計 | E55: =COUNTA(E6:E54) -> 49
B56: いわき計 | C56: 1 | E56: =E55 -> 49
C98: =#REF! -> #REF! | E98: =#REF! -> #REF!
